BEGIN:VCALENDAR
VERSION:2.0
PRODID:-//Sawicki Jewelry - ECPv6.15.18//NONSGML v1.0//EN
CALSCALE:GREGORIAN
METHOD:PUBLISH
X-WR-CALNAME:Sawicki Jewelry
X-ORIGINAL-URL:https://sawickijewelry.com
X-WR-CALDESC:Events for Sawicki Jewelry
REFRESH-INTERVAL;VALUE=DURATION:PT1H
X-Robots-Tag:noindex
X-PUBLISHED-TTL:PT1H
BEGIN:VTIMEZONE
TZID:UTC
BEGIN:STANDARD
TZOFFSETFROM:+0000
TZOFFSETTO:+0000
TZNAME:UTC
DTSTART:20240101T000000
END:STANDARD
END:VTIMEZONE
BEGIN:VEVENT
DTSTART;TZID=UTC:20251101T100000
DTEND;TZID=UTC:20251102T160000
DTSTAMP:20260424T164816
CREATED:20251013T182755Z
LAST-MODIFIED:20251013T193140Z
UID:2897-1761991200-1762099200@sawickijewelry.com
SUMMARY:63rd Annual Craft Fair
DESCRIPTION:Over 100 booths will be selling quality handcrafted goods from local vendors. Do all of your Holiday Shopping while strolling through the charming booths. All profits benefit Umpqua Wildlife Rescue. \nCraft Fair Hours \n\nSaturday 10am – 6pm\nSunday 10am – 4pm\n\nAdmission is a one can donation to the UCAN food bank.
URL:https://sawickijewelry.com/event/63rd-annual-craft-fair/
LOCATION:Douglas County Fairgrounds\, 2110 Frear St\, Roseburg\, OR\, 97471\, United States
ATTACH;FMTTYPE=image/jpeg:https://sawickijewelry.com/wp-content/uploads/2025/10/Fall-Craft-Fair.jpg
END:VEVENT
BEGIN:VEVENT
DTSTART;TZID=UTC:20251110T150000
DTEND;TZID=UTC:20251110T170000
DTSTAMP:20260424T164816
CREATED:20251007T154219Z
LAST-MODIFIED:20251013T143915Z
UID:2843-1762786800-1762794000@sawickijewelry.com
SUMMARY:Luxury Craft & Creative Discovery
DESCRIPTION:Step into the studio and discover the ancient art of metal manipulation. You are invited to design and craft two exquisite pieces from your choice of rich brass or warm copper. Select from a curated list of projects: earrings\, necklace\, bracelet\, ring\, or neckwire. \n\nFor the Newcomer: Begin your journey with confidence. Our experienced instructors will introduce you to foundational skills and safety protocols.\nFor the Dedicated Maker: Refine your craft. You’ll be inspired to explore advanced design principles and unlock the full potential of specialized tools.\n\nThe investment for this comprehensive experience\, including all instruction\, use of tools\, and your copper/brass materials\, is only $45. Sterling silver stock is also on hand for those seeking a premium finish. \nCreate & Sip Studio is settled in their new location\, 1807 NE Diamond Lake\, in front of the Cattle Dogs Golf building. I am looking forward to making jewelry with you in this new colorful studio space that Jessica and family have created. \nTo purchase your ticket click here\, or call\, Sharon\, 541-672-7165. \n“Some wear jewelry… We wear art.”
URL:https://sawickijewelry.com/event/ready-to-have-fun-creating-art-jewelry-36/
LOCATION:Create and Sip Studio\, 1807 NE Diamond Lake\, Roseburg\, 97470\, United States
ATTACH;FMTTYPE=image/jpeg:https://sawickijewelry.com/wp-content/uploads/2024/11/IMG_4066.jpeg
END:VEVENT
BEGIN:VEVENT
DTSTART;TZID=UTC:20251110T173000
DTEND;TZID=UTC:20251110T193000
DTSTAMP:20260424T164816
CREATED:20251007T154652Z
LAST-MODIFIED:20251013T144039Z
UID:2846-1762795800-1762803000@sawickijewelry.com
SUMMARY:Unleash Your Inner Jeweler: It's Time to Create!
DESCRIPTION:Tired of store-bought jewelry? Forge your own statement pieces! This is your opportunity to play with metal and bring your unique vision to life. You get to complete TWO amazing projects in your choice of glowing copper or bright brass. \nPick your creation: earrings\, necklace\, bracelet\, ring\, or neckwire! \n\nZero Experience Required! We’ll introduce you to basic skills and tool safety so you can start creating right away.\nReady to Level Up? Experienced makers are encouraged to break the mold\, experiment with new tools\, and expand their cutting-edge design skills.\n\nFor just $45\, you get access to all the instruction\, tools\, and copper/brass materials needed for a thrilling session of creativity. Looking for extra sparkle? Sterling silver is available for purchase! \nCreate & Sip Studio is settled in their new location\, 1807 NE Diamond Lake\, in front of the Cattle Dogs Golf building. I am looking forward to making jewelry with you in this new colorful studio space that Jessica and family have created. \nTo purchase your ticket click here\, or call\, Sharon\, 541-672-7165. \n“Some wear jewelry… We wear art.”
URL:https://sawickijewelry.com/event/ready-to-have-fun-creating-art-jewelry-37/
LOCATION:Create and Sip Studio\, 1807 NE Diamond Lake\, Roseburg\, 97470\, United States
ATTACH;FMTTYPE=image/jpeg:https://sawickijewelry.com/wp-content/uploads/2023/06/IMG_2079.jpg
END:VEVENT
END:VCALENDAR