BEGIN:VCALENDAR
VERSION:2.0
PRODID:-//Sawicki Jewelry - ECPv6.15.18//NONSGML v1.0//EN
CALSCALE:GREGORIAN
METHOD:PUBLISH
X-WR-CALNAME:Sawicki Jewelry
X-ORIGINAL-URL:https://sawickijewelry.com
X-WR-CALDESC:Events for Sawicki Jewelry
REFRESH-INTERVAL;VALUE=DURATION:PT1H
X-Robots-Tag:noindex
X-PUBLISHED-TTL:PT1H
BEGIN:VTIMEZONE
TZID:UTC
BEGIN:STANDARD
TZOFFSETFROM:+0000
TZOFFSETTO:+0000
TZNAME:UTC
DTSTART:20240101T000000
END:STANDARD
END:VTIMEZONE
BEGIN:VEVENT
DTSTART;TZID=UTC:20250602T150000
DTEND;TZID=UTC:20250602T170000
DTSTAMP:20260424T120522
CREATED:20250505T150225Z
LAST-MODIFIED:20250512T192135Z
UID:2730-1748876400-1748883600@sawickijewelry.com
SUMMARY:Ready to Have Fun Creating Art Jewelry?
DESCRIPTION:Create & Sip Studio is settled in their new location\, 1807 NE Diamond Lake\, in front of the Cattle Dogs Golf building. I am looking forward to making jewelry with you in this new colorful studio space that Jessica and family have created. \n  \nYou have your choice of 2 copper or brass projects\, ear rings\, necklace\, bracelet\, ring\, or neckwire. Beginners will be introduced to basic skills and safe use of tools.  Experienced jewelry makers will be encouraged to expand their design skills and try new tools and projects. The bonus lesson will include adding beads to your jewelry designs. You may use the beads provided or bring your own.\nCost per class\, including copper and brass materials\, use of tools\, and instruction is $45. Sterling silver is available for purchase. \nTo purchase your ticket click here\, or call\, Sharon\, 541-672-7165. \n“Some wear jewelry… We wear art.”
URL:https://sawickijewelry.com/event/ready-to-have-fun-creating-art-jewelry-19/
LOCATION:Create and Sip Studio\, 1807 NE Diamond Lake\, Roseburg\, 97470\, United States
ATTACH;FMTTYPE=image/jpeg:https://sawickijewelry.com/wp-content/uploads/2024/11/IMG_4351.jpeg
END:VEVENT
BEGIN:VEVENT
DTSTART;TZID=UTC:20250602T173000
DTEND;TZID=UTC:20250602T193000
DTSTAMP:20260424T120523
CREATED:20250505T150612Z
LAST-MODIFIED:20250512T192233Z
UID:2732-1748885400-1748892600@sawickijewelry.com
SUMMARY:Ready to Have Fun Creating Art Jewelry?
DESCRIPTION:Create & Sip Studio is settled in their new location\, 1807 NE Diamond Lake\, in front of the Cattle Dogs Golf building. I am looking forward to making jewelry with you in this new colorful studio space that Jessica and family have created. \n  \nYou have your choice of 2 copper or brass projects\, ear rings\, necklace\, bracelet\, ring\, or neckwire. Beginners will be introduced to basic skills and safe use of tools.  Experienced jewelry makers will be encouraged to expand their design skills and try new tools and projects. The bonus lesson will include adding beads to your jewelry designs. You may use the beads provided or bring your own.\nCost per class\, including copper and brass materials\, use of tools\, and instruction is $45. Sterling silver is available for purchase. \nTo purchase your ticket click here\, or call\, Sharon\, 541-672-7165. \n“Some wear jewelry… We wear art.”
URL:https://sawickijewelry.com/event/ready-to-have-fun-creating-art-jewelry-20/
LOCATION:Create and Sip Studio\, 1807 NE Diamond Lake\, Roseburg\, 97470\, United States
ATTACH;FMTTYPE=image/jpeg:https://sawickijewelry.com/wp-content/uploads/2023/07/363307060_735012318635366_2473866116489327672_n.jpeg
END:VEVENT
BEGIN:VEVENT
DTSTART;TZID=UTC:20250616T150000
DTEND;TZID=UTC:20250616T170000
DTSTAMP:20260424T120523
CREATED:20250505T150954Z
LAST-MODIFIED:20250512T192333Z
UID:2735-1750086000-1750093200@sawickijewelry.com
SUMMARY:Ready to Have Fun Creating Art Jewelry?
DESCRIPTION:Create & Sip Studio is settled in their new location\, 1807 NE Diamond Lake\, in front of the Cattle Dogs Golf building. I am looking forward to making jewelry with you in this new colorful studio space that Jessica and family have created. \n  \nYou have your choice of 2 copper or brass projects\, ear rings\, necklace\, bracelet\, ring\, or neckwire. Beginners will be introduced to basic skills and safe use of tools.  Experienced jewelry makers will be encouraged to expand their design skills and try new tools and projects. The bonus lesson will include designing jewelry with hoops and loops in your jewelry designs.\nCost per class\, including copper and brass materials\, use of tools\, and instruction is $45. Sterling silver is available for purchase. \nTo purchase your ticket click here\, or call\, Sharon\, 541-672-7165. \n“Some wear jewelry… We wear art.”
URL:https://sawickijewelry.com/event/ready-to-have-fun-creating-art-jewelry-21/
LOCATION:Create and Sip Studio\, 1807 NE Diamond Lake\, Roseburg\, 97470\, United States
ATTACH;FMTTYPE=image/jpeg:https://sawickijewelry.com/wp-content/uploads/2024/11/IMG_4331-scaled.jpeg
END:VEVENT
BEGIN:VEVENT
DTSTART;TZID=UTC:20250616T173000
DTEND;TZID=UTC:20250616T193000
DTSTAMP:20260424T120523
CREATED:20250505T151326Z
LAST-MODIFIED:20250512T192438Z
UID:2737-1750095000-1750102200@sawickijewelry.com
SUMMARY:Ready to Have Fun Creating Art Jewelry?
DESCRIPTION:Create & Sip Studio is settled in their new location\, 1807 NE Diamond Lake\, in front of the Cattle Dogs Golf building. I am looking forward to making jewelry with you in this new colorful studio space that Jessica and family have created. \n  \nYou have your choice of 2 copper or brass projects\, ear rings\, necklace\, bracelet\, ring\, or neckwire. Beginners will be introduced to basic skills and safe use of tools.  Experienced jewelry makers will be encouraged to expand their design skills and try new tools and projects. The bonus lesson will include designing jewelry with hoops and loops in your jewelry designs.\nCost per class\, including copper and brass materials\, use of tools\, and instruction is $45. Sterling silver is available for purchase. \nTo purchase your ticket click here\, or call\, Sharon\, 541-672-7165. \n“Some wear jewelry… We wear art.”
URL:https://sawickijewelry.com/event/ready-to-have-fun-creating-art-jewelry-22/
LOCATION:Create and Sip Studio\, 1807 NE Diamond Lake\, Roseburg\, 97470\, United States
ATTACH;FMTTYPE=image/jpeg:https://sawickijewelry.com/wp-content/uploads/2024/11/IMG_4259.jpeg
END:VEVENT
END:VCALENDAR