BEGIN:VCALENDAR
VERSION:2.0
PRODID:-//Sawicki Jewelry - ECPv6.15.18//NONSGML v1.0//EN
CALSCALE:GREGORIAN
METHOD:PUBLISH
X-ORIGINAL-URL:https://sawickijewelry.com
X-WR-CALDESC:Events for Sawicki Jewelry
REFRESH-INTERVAL;VALUE=DURATION:PT1H
X-Robots-Tag:noindex
X-PUBLISHED-TTL:PT1H
BEGIN:VTIMEZONE
TZID:UTC
BEGIN:STANDARD
TZOFFSETFROM:+0000
TZOFFSETTO:+0000
TZNAME:UTC
DTSTART:20240101T000000
END:STANDARD
END:VTIMEZONE
BEGIN:VEVENT
DTSTART;TZID=UTC:20250414T173000
DTEND;TZID=UTC:20250414T193000
DTSTAMP:20260424T084010
CREATED:20250226T194951Z
LAST-MODIFIED:20250326T190142Z
UID:2673-1744651800-1744659000@sawickijewelry.com
SUMMARY:Ready to Have Fun Creating Art Jewelry?
DESCRIPTION:You have your choice of 2 copper or brass projects\, ear rings\, necklace\, bracelet\, ring\, or neckwire. Beginners will be introduced to basic skills and safe use of tools. Experienced jewelry makers will be encouraged to expand their design skills and try new tools. The mini lesson will include adding beads to your jewelry designs. You may use the beads provided or bring your own. \nTo purchase your ticket click here\, or call\, Sharon\, 541-672-7165. \n“Some wear jewelry… We wear art.”
URL:https://sawickijewelry.com/event/ready-to-have-fun-creating-art-jewelry-12/
LOCATION:Create and Sip Studio\, 1807 NE Diamond Lake\, Roseburg\, 97470\, United States
ATTACH;FMTTYPE=image/jpeg:https://sawickijewelry.com/wp-content/uploads/2024/11/IMG_4137-scaled.jpeg
END:VEVENT
BEGIN:VEVENT
DTSTART;TZID=UTC:20250428T150000
DTEND;TZID=UTC:20250428T170000
DTSTAMP:20260424T084010
CREATED:20250226T201354Z
LAST-MODIFIED:20250424T141945Z
UID:2684-1745852400-1745859600@sawickijewelry.com
SUMMARY:Ready to Have Fun Creating Art Jewelry?
DESCRIPTION:CANCELED DUE TO MOVING\nCreate & Sip Studio and Sharon Sawicki Jewelry classes will be moving to a new location in May. April 28 jewelry classes are cancelled\, as I organize for the transition. I will have the new class schedule at my vendor booth at the Umpqua Valley Quilters’ Guild Quilt Show this weekend. \n  \nYou have your choice of 2 copper or brass projects\, ear rings\, necklace\, bracelet\, ring\, or neckwire. Beginners will be introduced to basic skills and safe use of tools.  Experienced jewelry makers will be encouraged to expand their design skills and try new tools. The mini lesson will include design ideas for mixing metals. You may use the beads provided or bring your own. \nTo purchase your ticket click here\, or call\, Sharon\, 541-672-7165. \n“Some wear jewelry… We wear art.”
URL:https://sawickijewelry.com/event/ready-to-have-fun-creating-art-jewelry-13/
LOCATION:Create and Sip Studio\, 1807 NE Diamond Lake\, Roseburg\, 97470\, United States
ATTACH;FMTTYPE=image/jpeg:https://sawickijewelry.com/wp-content/uploads/2024/11/IMG_4335-scaled.jpeg
END:VEVENT
END:VCALENDAR