BEGIN:VCALENDAR
VERSION:2.0
PRODID:-//Sawicki Jewelry - ECPv6.15.18//NONSGML v1.0//EN
CALSCALE:GREGORIAN
METHOD:PUBLISH
X-ORIGINAL-URL:https://sawickijewelry.com
X-WR-CALDESC:Events for Sawicki Jewelry
REFRESH-INTERVAL;VALUE=DURATION:PT1H
X-Robots-Tag:noindex
X-PUBLISHED-TTL:PT1H
BEGIN:VTIMEZONE
TZID:UTC
BEGIN:STANDARD
TZOFFSETFROM:+0000
TZOFFSETTO:+0000
TZNAME:UTC
DTSTART:20220101T000000
END:STANDARD
END:VTIMEZONE
BEGIN:VTIMEZONE
TZID:America/Los_Angeles
BEGIN:DAYLIGHT
TZOFFSETFROM:-0800
TZOFFSETTO:-0700
TZNAME:PDT
DTSTART:20220313T100000
END:DAYLIGHT
BEGIN:STANDARD
TZOFFSETFROM:-0700
TZOFFSETTO:-0800
TZNAME:PST
DTSTART:20221106T090000
END:STANDARD
BEGIN:DAYLIGHT
TZOFFSETFROM:-0800
TZOFFSETTO:-0700
TZNAME:PDT
DTSTART:20230312T100000
END:DAYLIGHT
BEGIN:STANDARD
TZOFFSETFROM:-0700
TZOFFSETTO:-0800
TZNAME:PST
DTSTART:20231105T090000
END:STANDARD
BEGIN:DAYLIGHT
TZOFFSETFROM:-0800
TZOFFSETTO:-0700
TZNAME:PDT
DTSTART:20240310T100000
END:DAYLIGHT
BEGIN:STANDARD
TZOFFSETFROM:-0700
TZOFFSETTO:-0800
TZNAME:PST
DTSTART:20241103T090000
END:STANDARD
END:VTIMEZONE
BEGIN:VEVENT
DTSTART;TZID=UTC:20230611T133000
DTEND;TZID=UTC:20230611T153000
DTSTAMP:20260425T033147
CREATED:20230424T032056Z
LAST-MODIFIED:20230424T033232Z
UID:2113-1686490200-1686497400@sawickijewelry.com
SUMMARY:Jewelry Class - Tuesday June 11th - 1:30 PM - 3:30 PM
DESCRIPTION:Designing Ear Wires! \nThe Regular workshop/class will include a mini class on making your own ear wires and adding beads. \nSunday\, June 11th\, 1:30-3:30 PM\, \nFreed Estate Winery\, 430 Hooten Rd.\, Winston\, OR 97496 \nYou will have your choice of 2 copper projects\, a pendant\, earrings\, bracelet\, ring\, or neck wire. Copper is a warm\, cooperative metal and easy to work. \nCost per class\, including copper materials\, use of tools\, and instruction is $45. Let me know\, if you would like to add beads or stones\, or have a special project in mind.  Sterling silver is available for purchase. \nPurchase your ticket here\, or call\, Sharon\, 541-672-7165.  Advance registration recommended. \n“Some wear jewelry… We wear art.” \nPurchase Tickets Now
URL:https://sawickijewelry.com/event/jewelry-class-tuesday-june-11th-130-pm-330-pm/
LOCATION:Freed Estate Winery\, 430 Hooten Rd.\, Winston\, OR\, 97496\, United States
END:VEVENT
BEGIN:VEVENT
DTSTART;TZID=UTC:20230623T100000
DTEND;TZID=UTC:20230623T210000
DTSTAMP:20260425T033147
CREATED:20230223T180740Z
LAST-MODIFIED:20230404T181705Z
UID:1311-1687514400-1687554000@sawickijewelry.com
SUMMARY:54th Annual Summer Arts Festival - Friday\, June 23rd
DESCRIPTION:  \n 
URL:https://sawickijewelry.com/event/54th-annual-summer-arts-festival-friday-june-23rd/
LOCATION:Umpqua Valley Arts\, 624 W Harvard Ave\, Roseburg\, OR\, 97471\, United States
ATTACH;FMTTYPE=image/webp:https://sawickijewelry.com/wp-content/uploads/2023/02/UVA-SAF-save-the-date-2023.webp
END:VEVENT
BEGIN:VEVENT
DTSTART;TZID=UTC:20230624T100000
DTEND;TZID=UTC:20230624T210000
DTSTAMP:20260425T033147
CREATED:20230223T180947Z
LAST-MODIFIED:20230404T181756Z
UID:1316-1687600800-1687640400@sawickijewelry.com
SUMMARY:54th Annual Summer Arts Festival - Saturday\, June 24th
DESCRIPTION:
URL:https://sawickijewelry.com/event/54th-annual-summer-arts-festival-saturday-june-24th/
LOCATION:Umpqua Valley Arts\, 624 W Harvard Ave\, Roseburg\, OR\, 97471\, United States
ATTACH;FMTTYPE=image/webp:https://sawickijewelry.com/wp-content/uploads/2023/02/UVA-SAF-save-the-date-2023.webp
END:VEVENT
BEGIN:VEVENT
DTSTART;TZID=America/Los_Angeles:20230625T100000
DTEND;TZID=America/Los_Angeles:20230625T160000
DTSTAMP:20260425T033147
CREATED:20230223T181106Z
LAST-MODIFIED:20230404T181902Z
UID:1320-1687687200-1687708800@sawickijewelry.com
SUMMARY:54th Annual Summer Arts Festival - Sunday\, June 25th
DESCRIPTION:  \n 
URL:https://sawickijewelry.com/event/54th-annual-summer-arts-festival-sunday-june-25th/
LOCATION:Umpqua Valley Arts\, 624 W Harvard Ave\, Roseburg\, OR\, 97471\, United States
ATTACH;FMTTYPE=image/webp:https://sawickijewelry.com/wp-content/uploads/2023/02/UVA-SAF-save-the-date-2023.webp
END:VEVENT
END:VCALENDAR