BEGIN:VCALENDAR
VERSION:2.0
PRODID:-//Sawicki Jewelry - ECPv6.15.18//NONSGML v1.0//EN
CALSCALE:GREGORIAN
METHOD:PUBLISH
X-WR-CALNAME:Sawicki Jewelry
X-ORIGINAL-URL:https://sawickijewelry.com
X-WR-CALDESC:Events for Sawicki Jewelry
REFRESH-INTERVAL;VALUE=DURATION:PT1H
X-Robots-Tag:noindex
X-PUBLISHED-TTL:PT1H
BEGIN:VTIMEZONE
TZID:UTC
BEGIN:STANDARD
TZOFFSETFROM:+0000
TZOFFSETTO:+0000
TZNAME:UTC
DTSTART:20240101T000000
END:STANDARD
END:VTIMEZONE
BEGIN:VEVENT
DTSTART;TZID=UTC:20251205T100000
DTEND;TZID=UTC:20251207T160000
DTSTAMP:20260420T163157
CREATED:20251013T185637Z
LAST-MODIFIED:20251013T192937Z
UID:2902-1764928800-1765123200@sawickijewelry.com
SUMMARY:Douglas County Christmas Craft Fair
DESCRIPTION:Sawicki Jewelry will be located inside Douglas Hall\, booth 56. \nThe Douglas County Christmas Craft Fair is the largest event of its type to occur in Douglas County each year. It is the largest and most popular Christmas Fair in Southern Oregon. Over 300 crafter booths\, displaying a wide variety of hand crafted items\, such as clothing\, home decor\, baked goods\, spices\, lotions\, soaps\, wood crafts\, metal sculptures\, art decor\, and numerous other unique products. \n\nChristmas Fair Admission: \n\nAdults: $6.00 ($1 off with canned food donation)\nKids 12 & under: FREE\nFriday 5pm-8pm FREE Admission\n\nChristmas Fair Hours: \n\nFriday 10am – 8pm\nSaturday 10am – 7pm\nSunday 10am – 4pm\n\nSanta’s Hours: \n\nFriday: 2pm – 8pm\nSaturday: 11am – 3pm\nSunday: 1pm – 4pm
URL:https://sawickijewelry.com/event/douglas-county-christmas-craft-fair/
LOCATION:Douglas County Fairgrounds\, 2110 Frear St\, Roseburg\, OR\, 97471\, United States
ATTACH;FMTTYPE=image/jpeg:https://sawickijewelry.com/wp-content/uploads/2025/10/Christmas-Fair.jpg
END:VEVENT
END:VCALENDAR