BEGIN:VCALENDAR
VERSION:2.0
PRODID:-//Sawicki Jewelry - ECPv6.15.18//NONSGML v1.0//EN
CALSCALE:GREGORIAN
METHOD:PUBLISH
X-WR-CALNAME:Sawicki Jewelry
X-ORIGINAL-URL:https://sawickijewelry.com
X-WR-CALDESC:Events for Sawicki Jewelry
REFRESH-INTERVAL;VALUE=DURATION:PT1H
X-Robots-Tag:noindex
X-PUBLISHED-TTL:PT1H
BEGIN:VTIMEZONE
TZID:America/Los_Angeles
BEGIN:DAYLIGHT
TZOFFSETFROM:-0800
TZOFFSETTO:-0700
TZNAME:PDT
DTSTART:20220313T100000
END:DAYLIGHT
BEGIN:STANDARD
TZOFFSETFROM:-0700
TZOFFSETTO:-0800
TZNAME:PST
DTSTART:20221106T090000
END:STANDARD
BEGIN:DAYLIGHT
TZOFFSETFROM:-0800
TZOFFSETTO:-0700
TZNAME:PDT
DTSTART:20230312T100000
END:DAYLIGHT
BEGIN:STANDARD
TZOFFSETFROM:-0700
TZOFFSETTO:-0800
TZNAME:PST
DTSTART:20231105T090000
END:STANDARD
BEGIN:DAYLIGHT
TZOFFSETFROM:-0800
TZOFFSETTO:-0700
TZNAME:PDT
DTSTART:20240310T100000
END:DAYLIGHT
BEGIN:STANDARD
TZOFFSETFROM:-0700
TZOFFSETTO:-0800
TZNAME:PST
DTSTART:20241103T090000
END:STANDARD
END:VTIMEZONE
BEGIN:VEVENT
DTSTART;TZID=America/Los_Angeles:20230304T090000
DTEND;TZID=America/Los_Angeles:20230304T130000
DTSTAMP:20260425T141013
CREATED:20230223T171721Z
LAST-MODIFIED:20230224T173731Z
UID:1263-1677920400-1677934800@sawickijewelry.com
SUMMARY:Umpqua Valley Farmers Market - Saturday\, March 4th
DESCRIPTION:Sawicki Jewelry will be among the many vendors at the Umpqua Valley Farmers Market Saturday\, March 4th from 9:00 AM to 1:00 PM. Come and browse a variety of one of a kind copper\, silver\, and stone jewelry pieces for sale and chat with the artist behind them.
URL:https://sawickijewelry.com/event/umpqua-valley-farmers-market-saturday-march-4th/
LOCATION:Umpqua Valley Farmers Market\, 1771 W Harvard\, Roseburg\, OR\, 97471\, United States
END:VEVENT
END:VCALENDAR