BEGIN:VCALENDAR
VERSION:2.0
PRODID:-//Sawicki Jewelry - ECPv6.15.18//NONSGML v1.0//EN
CALSCALE:GREGORIAN
METHOD:PUBLISH
X-WR-CALNAME:Sawicki Jewelry
X-ORIGINAL-URL:https://sawickijewelry.com
X-WR-CALDESC:Events for Sawicki Jewelry
REFRESH-INTERVAL;VALUE=DURATION:PT1H
X-Robots-Tag:noindex
X-PUBLISHED-TTL:PT1H
BEGIN:VTIMEZONE
TZID:UTC
BEGIN:STANDARD
TZOFFSETFROM:+0000
TZOFFSETTO:+0000
TZNAME:UTC
DTSTART:20240101T000000
END:STANDARD
END:VTIMEZONE
BEGIN:VEVENT
DTSTART;TZID=UTC:20251020T150000
DTEND;TZID=UTC:20251020T170000
DTSTAMP:20260424T164711
CREATED:20251007T152251Z
LAST-MODIFIED:20251013T143822Z
UID:2837-1760972400-1760979600@sawickijewelry.com
SUMMARY:HAMMER. SHAPE. WEAR. Your Jewelry-Making Adventure Starts Now!
DESCRIPTION:Get your hands on the tools and transform raw metal! Choose your medium—copper or brass—and complete two custom projects! Will you forge a fierce ring\, a stylish bracelet\, elegant earrings\, a perfect necklace\, or a unique neckwire? \n\nBEGINNERS: Master the essentials! We’ll guide you through basic skills and safe tool use.\nPROS: Push your boundaries! Expand your design repertoire and conquer new tools and techniques.\n\nFor just $45\, you get expert instruction\, all necessary copper and brass materials\, and full access to our professional tool sets. Ready to upgrade? Sterling silver is available for purchase! \nCreate & Sip Studio is settled in their new location\, 1807 NE Diamond Lake\, in front of the Cattle Dogs Golf building. I am looking forward to making jewelry with you in this new colorful studio space that Jessica and family have created. \nTo purchase your ticket click here\, or call\, Sharon\, 541-672-7165. \n“Some wear jewelry… We wear art.”
URL:https://sawickijewelry.com/event/ready-to-have-fun-creating-art-jewelry-34/
LOCATION:Create and Sip Studio\, 1807 NE Diamond Lake\, Roseburg\, 97470\, United States
ATTACH;FMTTYPE=image/jpeg:https://sawickijewelry.com/wp-content/uploads/2022/11/IMG_2349.jpg
END:VEVENT
BEGIN:VEVENT
DTSTART;TZID=UTC:20251020T173000
DTEND;TZID=UTC:20251020T193000
DTSTAMP:20260424T164711
CREATED:20251007T152727Z
LAST-MODIFIED:20251013T143647Z
UID:2840-1760981400-1760988600@sawickijewelry.com
SUMMARY:Ready to reserve your spot and start hammering out some dazzling new jewelry?
DESCRIPTION:Get ready to dive into the fiery world of metal. You’ll have the exciting opportunity to design and complete two stunning projects in either glowing copper or brilliant brass! The possibilities are endless: will you craft elegant earrings\, a captivating necklace\, a bold bracelet\, a statement ring\, or an intricate neckwire? \nNew to metalworking? Don’t worry! You’ll be introduced to the essential\, foundational skills and safe use of professional tools\, transforming you from novice to creator. \nAlready a jewelry guru? Challenge accepted! We’ll encourage you to break boundaries\, expand your design expertise\, and experiment with advanced tools and innovative projects that will elevate your craft! \nAll-Inclusive Adventure for Only $45!\nYour $45 class fee is your all-access pass to creativity! It includes: \n\nExpert\, personalized instruction.\nAll the copper and brass materials you need for your projects.\nComplete\, safe use of all professional tools.\n\nWant to add a touch of luxury? Sterling silver is also available for purchase to take your design to the next level! \n\nCreate & Sip Studio is settled in their new location\, 1807 NE Diamond Lake\, in front of the Cattle Dogs Golf building. I am looking forward to making jewelry with you in this new colorful studio space that Jessica and family have created. \nTo purchase your ticket click here\, or call\, Sharon\, 541-672-7165. \n“Some wear jewelry… We wear art.”
URL:https://sawickijewelry.com/event/ready-to-have-fun-creating-art-jewelry-35/
LOCATION:Create and Sip Studio\, 1807 NE Diamond Lake\, Roseburg\, 97470\, United States
ATTACH;FMTTYPE=image/jpeg:https://sawickijewelry.com/wp-content/uploads/2023/06/IMG_2410.jpg
END:VEVENT
END:VCALENDAR