BEGIN:VCALENDAR
VERSION:2.0
PRODID:-//Sawicki Jewelry - ECPv6.15.18//NONSGML v1.0//EN
CALSCALE:GREGORIAN
METHOD:PUBLISH
X-ORIGINAL-URL:https://sawickijewelry.com
X-WR-CALDESC:Events for Sawicki Jewelry
REFRESH-INTERVAL;VALUE=DURATION:PT1H
X-Robots-Tag:noindex
X-PUBLISHED-TTL:PT1H
BEGIN:VTIMEZONE
TZID:UTC
BEGIN:STANDARD
TZOFFSETFROM:+0000
TZOFFSETTO:+0000
TZNAME:UTC
DTSTART:20240101T000000
END:STANDARD
END:VTIMEZONE
BEGIN:VEVENT
DTSTART;TZID=UTC:20250512T080000
DTEND;TZID=UTC:20250512T170000
DTSTAMP:20260424T133131
CREATED:20250512T185546Z
LAST-MODIFIED:20250512T185655Z
UID:2753-1747036800-1747069200@sawickijewelry.com
SUMMARY:Ready to Have Fun Creating Art Jewelry?
DESCRIPTION:Create & Sip Studio is settled in their new location\, 1807 NE Diamond Lake\, in front of the Cattle Dogs Golf building. I am looking forward to making jewelry with you in this new colorful studio space that Jessica and family have created. \n  \nYou have your choice of 2 copper or brass projects\, ear rings\, necklace\, bracelet\, ring\, or neckwire. Beginners will be introduced to basic skills and safe use of tools.  Experienced jewelry makers will be encouraged to expand their design skills and try new tools and projects. The bonus lesson will include designing jewelry with hoops and loops in your jewelry designs.\nCost per class\, including copper and brass materials\, use of tools\, and instruction is $45. Sterling silver is available for purchase. \nTo purchase your ticket click here\, or call\, Sharon\, 541-672-7165. \n“Some wear jewelry… We wear art.”
URL:https://sawickijewelry.com/event/ready-to-have-fun-creating-art-jewelry-23/
LOCATION:OR
END:VEVENT
BEGIN:VEVENT
DTSTART;TZID=UTC:20250512T150000
DTEND;TZID=UTC:20250512T170000
DTSTAMP:20260424T133131
CREATED:20250226T201601Z
LAST-MODIFIED:20250505T151808Z
UID:2686-1747062000-1747069200@sawickijewelry.com
SUMMARY:Ready to Have Fun Creating Art Jewelry?
DESCRIPTION:Create & Sip Studio is settled in their new location\, 1807 NE Diamond Lake\, in front of the Cattle Dogs Golf building. I am looking forward to making jewelry with you in this new colorful studio space that Jessica and family have created. \n  \nYou have your choice of 2 copper or brass projects\, ear rings\, necklace\, bracelet\, ring\, or neckwire. Beginners will be introduced to basic skills and safe use of tools.  Experienced jewelry makers will be encouraged to expand their design skills and try new tools with a bonus lesson which will include exploring geometric and free form metal shapes Cost per class\, including copper and brass materials\, use of tools\, and instruction is $45. Sterling silver is available for purchase. \nTo purchase your ticket click here\, or call\, Sharon\, 541-672-7165. \n“Some wear jewelry… We wear art.”
URL:https://sawickijewelry.com/event/ready-to-have-fun-creating-art-jewelry-14/
LOCATION:Create and Sip Studio\, 1807 NE Diamond Lake\, Roseburg\, 97470\, United States
ATTACH;FMTTYPE=image/jpeg:https://sawickijewelry.com/wp-content/uploads/2024/11/IMG_4141-scaled.jpeg
END:VEVENT
END:VCALENDAR