BEGIN:VCALENDAR
VERSION:2.0
PRODID:-//Sawicki Jewelry - ECPv6.15.18//NONSGML v1.0//EN
CALSCALE:GREGORIAN
METHOD:PUBLISH
X-WR-CALNAME:Sawicki Jewelry
X-ORIGINAL-URL:https://sawickijewelry.com
X-WR-CALDESC:Events for Sawicki Jewelry
REFRESH-INTERVAL;VALUE=DURATION:PT1H
X-Robots-Tag:noindex
X-PUBLISHED-TTL:PT1H
BEGIN:VTIMEZONE
TZID:UTC
BEGIN:STANDARD
TZOFFSETFROM:+0000
TZOFFSETTO:+0000
TZNAME:UTC
DTSTART:20240101T000000
END:STANDARD
END:VTIMEZONE
BEGIN:VEVENT
DTSTART;TZID=UTC:20250303T150000
DTEND;TZID=UTC:20250303T170000
DTSTAMP:20260420T090351
CREATED:20250226T194155Z
LAST-MODIFIED:20250226T200659Z
UID:2663-1741014000-1741021200@sawickijewelry.com
SUMMARY:Ready to Have Fun Creating Art Jewelry?
DESCRIPTION:You have your choice of 2 copper or brass projects\, ear rings\, necklace\, bracelet\, ring\, or neckwire. Beginners will be introduced to basic skills and safe use of tools.  Experienced jewelry makers will be encouraged to expand their design skills and try new tools. The mini lesson will include exploring geometric and free form metal shapes. \nCost per class\, including copper materials\, use of tools\, and instruction is $45. Sterling silver is available for purchase. \nTo purchase your ticket click here\, or call\, Sharon\, 541-672-7165. \n“Some wear jewelry… We wear art.”
URL:https://sawickijewelry.com/event/ready-to-have-fun-creating-art-jewelry-9/
LOCATION:Create and Sip Studio\, 1807 NE Diamond Lake\, Roseburg\, 97470\, United States
ATTACH;FMTTYPE=image/jpeg:https://sawickijewelry.com/wp-content/uploads/2024/11/IMG_4148-scaled.jpeg
END:VEVENT
BEGIN:VEVENT
DTSTART;TZID=UTC:20250303T173000
DTEND;TZID=UTC:20250303T193000
DTSTAMP:20260420T090351
CREATED:20250226T194411Z
LAST-MODIFIED:20250226T200725Z
UID:2668-1741023000-1741030200@sawickijewelry.com
SUMMARY:Ready to Have Fun Creating Art Jewelry?
DESCRIPTION:You have your choice of 2 copper or brass projects\, ear rings\, necklace\, bracelet\, ring\, or neckwire. Beginners will be introduced to basic skills and safe use of tools.  Experienced jewelry makers will be encouraged to expand their design skills and try new tools. The mini lesson will include exploring geometric and free form metal shapes. \nCost per class\, including copper materials\, use of tools\, and instruction is $45. Sterling silver is available for purchase. \nTo purchase your ticket click here\, or call\, Sharon\, 541-672-7165. \n“Some wear jewelry… We wear art.”
URL:https://sawickijewelry.com/event/ready-to-have-fun-creating-art-jewelry-10/
LOCATION:Create and Sip Studio\, 1807 NE Diamond Lake\, Roseburg\, 97470\, United States
ATTACH;FMTTYPE=image/jpeg:https://sawickijewelry.com/wp-content/uploads/2024/11/admin-ajax-1.jpg
END:VEVENT
END:VCALENDAR